BEGIN:VCALENDAR
VERSION:2.0
PRODID:icalendar-ruby
CALSCALE:GREGORIAN
METHOD:PUBLISH
BEGIN:VEVENT
DTSTAMP:20260421T170100Z
UID:7-2919595@coastlinefellowship.org
DTSTART:20261020T010000Z
DTEND:20261020T030000Z
CLASS:PUBLIC
CREATED:20260421T085354
DESCRIPTION:Includes Dinner\nClick here for more information.
LAST-MODIFIED:20260421T085354
LOCATION:89386 HWY 202\, Astoria\, OR 97103
SUMMARY:High School Group
URL;VALUE=URI:https://coastlinefellowship.org/events/high-school-group/2026
 -10-19
ATTACH;FILENAME=HSG_1500x784.jpg;FMTTYPE=image/jpeg:https://dq5pwpg1q8ru0.c
 loudfront.net/2021/02/11/14/55/19/9356481e-6e8d-48c6-abed-58e0a1a186e4/HSG
 _1500x784.jpg
END:VEVENT
END:VCALENDAR
