BEGIN:VCALENDAR
VERSION:2.0
PRODID:icalendar-ruby
CALSCALE:GREGORIAN
METHOD:PUBLISH
BEGIN:VEVENT
DTSTAMP:20260421T230925Z
UID:10-2923947@coastlinefellowship.org
DTSTART:20261028T010000Z
DTEND:20261028T024500Z
CLASS:PUBLIC
CREATED:20260421T140924
DESCRIPTION:Click here for more information.
LAST-MODIFIED:20260421T140924
LOCATION:525 NW Warrenton Drive\, Warrenton
SUMMARY:Break-Through
URL;VALUE=URI:https://coastlinefellowship.org/events/break-through/2026-10-
 27
ATTACH;FILENAME=Breakthrough_1500x784.jpeg;FMTTYPE=image/jpeg:https://dq5pw
 pg1q8ru0.cloudfront.net/2023/06/25/06/15/53/e79c4ef6-02d4-48e3-8b3c-a15846
 853fca/Breakthrough_1500x784.jpeg
END:VEVENT
END:VCALENDAR
